BEGIN:VCALENDAR
VERSION:2.0
PRODID:-//Windsor RSL - ECPv6.15.16.1//NONSGML v1.0//EN
CALSCALE:GREGORIAN
METHOD:PUBLISH
X-ORIGINAL-URL:http://windsorrsl.com.au
X-WR-CALDESC:Events for Windsor RSL
REFRESH-INTERVAL;VALUE=DURATION:PT1H
X-Robots-Tag:noindex
X-PUBLISHED-TTL:PT1H
BEGIN:VTIMEZONE
TZID:UTC
BEGIN:STANDARD
TZOFFSETFROM:+0000
TZOFFSETTO:+0000
TZNAME:UTC
DTSTART:20220101T000000
END:STANDARD
END:VTIMEZONE
BEGIN:VEVENT
DTSTART;TZID=UTC:20230811T080000
DTEND;TZID=UTC:20230811T170000
DTSTAMP:20260421T092433
CREATED:20230714T034657Z
LAST-MODIFIED:20230831T072125Z
UID:10000148-1691740800-1691773200@windsorrsl.com.au
SUMMARY:Spring Sessions
DESCRIPTION: 
URL:http://windsorrsl.com.au/event/spring-sessions/2023-08-11/
CATEGORIES:easylane
ATTACH;FMTTYPE=image/jpeg:http://windsorrsl.com.au/wp-content/uploads/2023/07/Easy_Lane_Entertainment_SEP_2023_Insta_Story.jpg
END:VEVENT
BEGIN:VEVENT
DTSTART;VALUE=DATE:20230731
DTEND;VALUE=DATE:20230801
DTSTAMP:20260421T092433
CREATED:20230714T034237Z
LAST-MODIFIED:20230720T053042Z
UID:10000992-1690761600-1690847999@windsorrsl.com.au
SUMMARY:NRL Live
DESCRIPTION:
URL:http://windsorrsl.com.au/event/nrl-live/
CATEGORIES:easylane
ATTACH;FMTTYPE=image/jpeg:http://windsorrsl.com.au/wp-content/uploads/2023/02/A5_NRL_Live_and_Loud.jpg
END:VEVENT
END:VCALENDAR