BEGIN:VCALENDAR
VERSION:2.0
PRODID:-//Windsor RSL - ECPv6.15.16.1//NONSGML v1.0//EN
CALSCALE:GREGORIAN
METHOD:PUBLISH
X-ORIGINAL-URL:http://windsorrsl.com.au
X-WR-CALDESC:Events for Windsor RSL
REFRESH-INTERVAL;VALUE=DURATION:PT1H
X-Robots-Tag:noindex
X-PUBLISHED-TTL:PT1H
BEGIN:VTIMEZONE
TZID:UTC
BEGIN:STANDARD
TZOFFSETFROM:+0000
TZOFFSETTO:+0000
TZNAME:UTC
DTSTART:20250101T000000
END:STANDARD
END:VTIMEZONE
BEGIN:VEVENT
DTSTART;TZID=UTC:20261103T170000
DTEND;TZID=UTC:20261103T190000
DTSTAMP:20260425T125505
CREATED:20240722T071326Z
LAST-MODIFIED:20240722T071327Z
UID:10002756-1793725200-1793732400@windsorrsl.com.au
SUMMARY:FREE Members Meat Raffle
DESCRIPTION:ARE YOU READY MEMBERS???Every Tuesday is FREE MEMBERS MEAT RAFFLE Swipe your membership card at the kiosk to receive your voucher and hand to the raffle host for your free tickets.Tickets – 5pmDraw – 6.30pm\n  \n 
URL:http://windsorrsl.com.au/event/turf-tuesday-2/2026-11-03/
CATEGORIES:Raffles
ATTACH;FMTTYPE=image/jpeg:http://windsorrsl.com.au/wp-content/uploads/2024/06/Raffles-Tuesday-Square-Windsor-RSL-V4-2.jpg
END:VEVENT
BEGIN:VEVENT
DTSTART;TZID=UTC:20261104T170000
DTEND;TZID=UTC:20261104T190000
DTSTAMP:20260425T125505
CREATED:20240722T070918Z
LAST-MODIFIED:20240722T071103Z
UID:10003212-1793811600-1793818800@windsorrsl.com.au
SUMMARY:Wishcard Wednesday Raffle
DESCRIPTION:WISHCARD WEDNESDAY \n23 Prizes to be won! \nTickets 5pm | Draw Commences 6.30pm
URL:http://windsorrsl.com.au/event/2285/2026-11-04/
CATEGORIES:Raffles
ATTACH;FMTTYPE=image/jpeg:http://windsorrsl.com.au/wp-content/uploads/2024/06/Raffles-Wednesday-Square-Windsor-RSL-V4-2.jpg
END:VEVENT
BEGIN:VEVENT
DTSTART;TZID=UTC:20261110T170000
DTEND;TZID=UTC:20261110T190000
DTSTAMP:20260425T125505
CREATED:20240722T071326Z
LAST-MODIFIED:20240722T071327Z
UID:10002757-1794330000-1794337200@windsorrsl.com.au
SUMMARY:FREE Members Meat Raffle
DESCRIPTION:ARE YOU READY MEMBERS???Every Tuesday is FREE MEMBERS MEAT RAFFLE Swipe your membership card at the kiosk to receive your voucher and hand to the raffle host for your free tickets.Tickets – 5pmDraw – 6.30pm\n  \n 
URL:http://windsorrsl.com.au/event/turf-tuesday-2/2026-11-10/
CATEGORIES:Raffles
ATTACH;FMTTYPE=image/jpeg:http://windsorrsl.com.au/wp-content/uploads/2024/06/Raffles-Tuesday-Square-Windsor-RSL-V4-2.jpg
END:VEVENT
BEGIN:VEVENT
DTSTART;TZID=UTC:20261111T170000
DTEND;TZID=UTC:20261111T190000
DTSTAMP:20260425T125505
CREATED:20240722T070918Z
LAST-MODIFIED:20240722T071103Z
UID:10003213-1794416400-1794423600@windsorrsl.com.au
SUMMARY:Wishcard Wednesday Raffle
DESCRIPTION:WISHCARD WEDNESDAY \n23 Prizes to be won! \nTickets 5pm | Draw Commences 6.30pm
URL:http://windsorrsl.com.au/event/2285/2026-11-11/
CATEGORIES:Raffles
ATTACH;FMTTYPE=image/jpeg:http://windsorrsl.com.au/wp-content/uploads/2024/06/Raffles-Wednesday-Square-Windsor-RSL-V4-2.jpg
END:VEVENT
BEGIN:VEVENT
DTSTART;TZID=UTC:20261117T170000
DTEND;TZID=UTC:20261117T190000
DTSTAMP:20260425T125505
CREATED:20240722T071326Z
LAST-MODIFIED:20240722T071327Z
UID:10002758-1794934800-1794942000@windsorrsl.com.au
SUMMARY:FREE Members Meat Raffle
DESCRIPTION:ARE YOU READY MEMBERS???Every Tuesday is FREE MEMBERS MEAT RAFFLE Swipe your membership card at the kiosk to receive your voucher and hand to the raffle host for your free tickets.Tickets – 5pmDraw – 6.30pm\n  \n 
URL:http://windsorrsl.com.au/event/turf-tuesday-2/2026-11-17/
CATEGORIES:Raffles
ATTACH;FMTTYPE=image/jpeg:http://windsorrsl.com.au/wp-content/uploads/2024/06/Raffles-Tuesday-Square-Windsor-RSL-V4-2.jpg
END:VEVENT
BEGIN:VEVENT
DTSTART;TZID=UTC:20261118T170000
DTEND;TZID=UTC:20261118T190000
DTSTAMP:20260425T125505
CREATED:20240722T070918Z
LAST-MODIFIED:20240722T071103Z
UID:10003214-1795021200-1795028400@windsorrsl.com.au
SUMMARY:Wishcard Wednesday Raffle
DESCRIPTION:WISHCARD WEDNESDAY \n23 Prizes to be won! \nTickets 5pm | Draw Commences 6.30pm
URL:http://windsorrsl.com.au/event/2285/2026-11-18/
CATEGORIES:Raffles
ATTACH;FMTTYPE=image/jpeg:http://windsorrsl.com.au/wp-content/uploads/2024/06/Raffles-Wednesday-Square-Windsor-RSL-V4-2.jpg
END:VEVENT
BEGIN:VEVENT
DTSTART;TZID=UTC:20261124T170000
DTEND;TZID=UTC:20261124T190000
DTSTAMP:20260425T125505
CREATED:20240722T071326Z
LAST-MODIFIED:20240722T071327Z
UID:10002759-1795539600-1795546800@windsorrsl.com.au
SUMMARY:FREE Members Meat Raffle
DESCRIPTION:ARE YOU READY MEMBERS???Every Tuesday is FREE MEMBERS MEAT RAFFLE Swipe your membership card at the kiosk to receive your voucher and hand to the raffle host for your free tickets.Tickets – 5pmDraw – 6.30pm\n  \n 
URL:http://windsorrsl.com.au/event/turf-tuesday-2/2026-11-24/
CATEGORIES:Raffles
ATTACH;FMTTYPE=image/jpeg:http://windsorrsl.com.au/wp-content/uploads/2024/06/Raffles-Tuesday-Square-Windsor-RSL-V4-2.jpg
END:VEVENT
BEGIN:VEVENT
DTSTART;TZID=UTC:20261125T170000
DTEND;TZID=UTC:20261125T190000
DTSTAMP:20260425T125505
CREATED:20240722T070918Z
LAST-MODIFIED:20240722T071103Z
UID:10003215-1795626000-1795633200@windsorrsl.com.au
SUMMARY:Wishcard Wednesday Raffle
DESCRIPTION:WISHCARD WEDNESDAY \n23 Prizes to be won! \nTickets 5pm | Draw Commences 6.30pm
URL:http://windsorrsl.com.au/event/2285/2026-11-25/
CATEGORIES:Raffles
ATTACH;FMTTYPE=image/jpeg:http://windsorrsl.com.au/wp-content/uploads/2024/06/Raffles-Wednesday-Square-Windsor-RSL-V4-2.jpg
END:VEVENT
END:VCALENDAR