BEGIN:VCALENDAR
VERSION:2.0
PRODID:-//Windsor RSL - ECPv6.15.16.1//NONSGML v1.0//EN
CALSCALE:GREGORIAN
METHOD:PUBLISH
X-WR-CALNAME:Windsor RSL
X-ORIGINAL-URL:http://windsorrsl.com.au
X-WR-CALDESC:Events for Windsor RSL
REFRESH-INTERVAL;VALUE=DURATION:PT1H
X-Robots-Tag:noindex
X-PUBLISHED-TTL:PT1H
BEGIN:VTIMEZONE
TZID:UTC
BEGIN:STANDARD
TZOFFSETFROM:+0000
TZOFFSETTO:+0000
TZNAME:UTC
DTSTART:20210101T000000
END:STANDARD
END:VTIMEZONE
BEGIN:VEVENT
DTSTART;TZID=UTC:20240623T140000
DTEND;TZID=UTC:20240623T153000
DTSTAMP:20260424T123759
CREATED:20240314T050319Z
LAST-MODIFIED:20240314T050340Z
UID:10003041-1719151200-1719156600@windsorrsl.com.au
SUMMARY:Swinging 60 's Show
DESCRIPTION:Let the past become your present as top-level musicianship and punchy performances bring the iconic sounds of The Beatles\, The Rolling Stones\, and legendary divas like Cilla Black to life. Immerse yourself in the authentic Sixties experience\, from tailor-made mod suits to dazzling dance routines —this show guarantees a foot-tapping\, cheer-inducing journey back to the music’s most exciting era! \nDoors Open from 1.00pm\, show is for 18+ years only.\n*Present your show ticket at The Kitchen to receive your voucher for $10 matinee meal special\, valid on the show day only from 11.00am -2.00pm.
URL:http://windsorrsl.com.au/event/swinging-60-s-show/
LOCATION:Windsor RSL
CATEGORIES:Entertainment
ATTACH;FMTTYPE=image/jpeg:http://windsorrsl.com.au/wp-content/uploads/2024/03/SwingingSixties-promopic2017.jpg
END:VEVENT
BEGIN:VEVENT
DTSTART;TZID=UTC:20240526T140000
DTEND;TZID=UTC:20240526T153000
DTSTAMP:20260424T123759
CREATED:20240314T050748Z
LAST-MODIFIED:20240314T050748Z
UID:10003042-1716732000-1716737400@windsorrsl.com.au
SUMMARY:Lucky Starr
DESCRIPTION:Lucky Starr is one of the founding members of the Australian Pop Music Industry. \nA regular on television shows such as Bandstand and also hosted Six O’clock Rock for one season.\nIn 1962 Lucky recorded a hit record “I’ve Been Everywhere”\, which to date still remains one of Australia’s all-time favourites. The record received the highest accolade in the music industry\, the Platinum Award.\nLucky’s style ranges from Rock & Roll to Country through to Jazz and is in fact similar to the late great Bobby Darin. \nDoors Open from 1.00pm\, show is for 18+ years only.\n*Present your show ticket at The Kitchen to receive your voucher for $10 matinee meal special\, valid on the show day only from 11.00am -2.00pm.
URL:http://windsorrsl.com.au/event/lucky-starr/
LOCATION:Windsor RSL
CATEGORIES:Entertainment
ATTACH;FMTTYPE=image/jpeg:http://windsorrsl.com.au/wp-content/uploads/2024/03/Lucky-Starr-scaled.jpg
END:VEVENT
BEGIN:VEVENT
DTSTART;TZID=UTC:20240515T200000
DTEND;TZID=UTC:20240515T213000
DTSTAMP:20260424T123759
CREATED:20240226T220616Z
LAST-MODIFIED:20240304T051026Z
UID:10003040-1715803200-1715808600@windsorrsl.com.au
SUMMARY:Ezio De Angelis: Medium
DESCRIPTION:Ezio has amazed audiences across Australia with his ability to accurately connect to their loved ones who have crossed over.  “It’s exciting to receive a message from a loved one on the other side.  The real evidence and comfort is in the detail I am able to deliver\,” he says.  “A name\, a shared memory\, details of things they did and places they have been…it all comes together to give great evidence that I am really communicating with their loved ones in spirit.”  He says his work\, while entertaining\, inspiring and uplifting…is all about bringing comfort to individuals and families who grieve the loss of a cherished loved one.  “Through my work\, people realise that we will meet again and that the bonds of love never die. \n*Doors open 7pm\, show start time of 8pm.\n*Club Membership Cards will be checked on show door entry.\n*Over 18+ years only.
URL:http://windsorrsl.com.au/event/ezio-de-angelis-medium-4/
LOCATION:Windsor RSL
CATEGORIES:Entertainment
ATTACH;FMTTYPE=image/jpeg:http://windsorrsl.com.au/wp-content/uploads/2024/02/ezio-de-ang-SQUARE.jpg
END:VEVENT
BEGIN:VEVENT
DTSTART;TZID=UTC:20240503T200000
DTEND;TZID=UTC:20240503T213000
DTSTAMP:20260424T123759
CREATED:20231220T031352Z
LAST-MODIFIED:20231220T031635Z
UID:10003021-1714766400-1714771800@windsorrsl.com.au
SUMMARY:Akmal: Red Flags
DESCRIPTION:Akmal returns with a brand-new show title\, ‘Red Flags’. It is one of the best titles he’s come up with in years; this demonstrates his incredible ability to come up with original and thought-provoking names for shows. \n“The title of this show is original and thought-provoking.” The Newspaper \n“I really enjoyed the name of this show. My favourite part was the word RED”…Kitty Saleh. \n“If the actual show is as good as its title\, he’s onto a winner.” (Name withheld for legal reasons.) \nWarning: \nThis show is so funny medical authorities recommend you only see five or six minutes per night. \nWatching the full hour may cause nausea\, loss of bladder control\, unintentional orgasm and death. \nNo Refunds. \n“Akmal is undoubtedly one of the best comics doing the rounds”\, The Blurb \n“Wonderfully Fresh\, Hilarious and a definite starter for your Festival list”\, ★★★★ 1/2 Adelaide Theatre Guide \n“Not one wanted the shop to stop … he seemed to own the stage” – Sydney Morning Herald \n★★★★ 1/2 The Advertiser \n**Age restrictions do apply.
URL:http://windsorrsl.com.au/event/akmal-red-flags/
LOCATION:Windsor RSL
CATEGORIES:Entertainment
ATTACH;FMTTYPE=image/jpeg:http://windsorrsl.com.au/wp-content/uploads/2023/12/Akmal_RedFlags_1080x1080.jpg
END:VEVENT
BEGIN:VEVENT
DTSTART;TZID=UTC:20240203T200000
DTEND;TZID=UTC:20240203T213000
DTSTAMP:20260424T123759
CREATED:20231222T065258Z
LAST-MODIFIED:20231222T070723Z
UID:10003022-1706990400-1706995800@windsorrsl.com.au
SUMMARY:Comedy Collective
DESCRIPTION:Australia’s first and foremost Comedy Events specialists\, everything is funny about what we do and that’s no joke.\nYou know their faces you’ve probably even seen them on the telly\,\nHere is a collection of fantastically funny humans ready to boost your dreary nights. \nCam Knight\nHaving featured in the televised Just for Laughs festival at the Sydney Opera House\, as well as the televised Sydney Comedy Festival Gala on the Comedy Channel\, Perth Comedy Festival Gala and multiple episodes of ABC TV’s Back Seat Drivers\, Cam’s television presence is enjoying a meteoric rise.  \nPat Golamco\nHe has performed his solo show all around Australia\, including the Sydney Comedy Festival\, Sydney Fringe\, Melbourne International Comedy Festival\, Adelaide Fringe and Perth Fringe festivals. His show blends musical comedy on his electronic keyboard with insightful one liners\, and accentuates his introverted persona. \nLaura Coleman\nDescribed by her peers as “a killer”\, “super funny” and “that chick who bought me a beer once:\, Laura was a 2022 and 2020 Raw Comedy state finalist. Laura has been seen at such illustrious venues as the Comedy Store\, and Sydney and Newcastle fringe festivals.   \nSean Woodland\nFormer Teacher\, Postie\, Cook\, Semi Professional Australian Rules Footballer\, World Wide Wonderer and Multi Award Winning Comedian\, Sean is rich with experience. He burst onto the Sydney Comedy scene in formidable style\, in his first year of comedy won the ‘Quest for the Best’\, Australia’s richest open mic comedy competition. He also won the iconic Crows Nest Hotel comedy competition in the same year.   \nTahir\nTAHIR has starred in legendary Australian sit-coms “Fat Pizza”\, “Swift and Shift Couriers “and “Housos”.  He played the character of “Habib”\, one of the most hilarious and popular characters ever seen on Australian television. \n18+ years only
URL:http://windsorrsl.com.au/event/comedy-collective/
LOCATION:Windsor RSL
CATEGORIES:Entertainment
ATTACH;FMTTYPE=image/jpeg:http://windsorrsl.com.au/wp-content/uploads/2023/12/Comedy-Collective-Website-.jpg
END:VEVENT
BEGIN:VEVENT
DTSTART;TZID=UTC:20240125T110000
DTEND;TZID=UTC:20240125T121500
DTSTAMP:20260424T123759
CREATED:20231024T054058Z
LAST-MODIFIED:20240118T235740Z
UID:10002596-1706180400-1706184900@windsorrsl.com.au
SUMMARY:Pop Squad - FREE SHOW
DESCRIPTION:Pop Squad” is a brand new\, uplifting Kids’ Show paying tribute to three of the world’s most loved Pop Music icons: Katy Perry\, Taylor Swift and Dua Lipa. \nThe live show brings the hit music\, flamboyant performances and outrageous costumes of these global superstars to local stages around the country. \nDoors open from 10am. \n 
URL:http://windsorrsl.com.au/event/pop-squad/
LOCATION:Windsor RSL
CATEGORIES:Entertainment,Free Entertainment
ATTACH;FMTTYPE=image/jpeg:http://windsorrsl.com.au/wp-content/uploads/2023/10/The-Pop-Squad-1080px-sq.jpg
END:VEVENT
BEGIN:VEVENT
DTSTART;TZID=UTC:20231206T060000
DTEND;TZID=UTC:20231206T200000
DTSTAMP:20260424T123759
CREATED:20231106T021205Z
LAST-MODIFIED:20231106T021324Z
UID:10003004-1701842400-1701892800@windsorrsl.com.au
SUMMARY:Christmas Wreath Workshop
DESCRIPTION:Join us for an evening of fun and creativity with our Christmas Wreath Workshop.\nRun by Jody and her team from Bloom Room Florist in Richmond you will create a wreath using fresh seasonal natives\, cypress pine\, holy\, dried and preserved flowers.\nWe’ll provide all sundries including  50cm diamtere base\, twine\, and pruning shears.\nThe class will run for approximately 1-2hrs and is perfect for everyone from beginners to experienced crafters.\nSo\, gather your family\, friends or just yourself and join us for a fun filled evening.
URL:http://windsorrsl.com.au/event/christmas-wreath-making-at-windsor-rsl/2023-12-06/
LOCATION:Windsor RSL
CATEGORIES:Christmas,Entertainment
ATTACH;FMTTYPE=image/png:http://windsorrsl.com.au/wp-content/uploads/2023/11/Christmas-Wreath-1200-x-900-px.png
END:VEVENT
BEGIN:VEVENT
DTSTART;TZID=UTC:20231122T200000
DTEND;TZID=UTC:20231122T213000
DTSTAMP:20260424T123759
CREATED:20230829T233800Z
LAST-MODIFIED:20230829T235234Z
UID:10001015-1700683200-1700688600@windsorrsl.com.au
SUMMARY:Ezio De Angelis - Medium
DESCRIPTION:Ezio is back at Windsor RSL Club by popular demand. \nWould you like to know what the future holds or connect to a loved one on the other side?   Come and meet Ezio De Angelis\, the man they call Australia’s most accurate Psychic Medium. \nHaving been voted Australian Psychic of the Year\, Ezio appeared on numerous radio and television shows such as The One – where the show’s host\, Andrew Daddo\, introduced him to Australian audiences as “The best in the business!”\nHe has also appeared on shows such as Kerrie Anne and Sunrise and has worked on radio stations such as Triple M\, Mix FM and Today FM.   His book Postcards from the Other Side – True Stories of the Afterlife (Co-authored with his wife and medium Michelle De Angelis and published by Allen and Unwin) has been hailed among the best “psychic and spiritual books” ever produced in Australia. \nEzio has amazed audiences across Australia with his ability to accurately connect to their loved ones who have crossed over.  “It’s exciting to receive a message from a loved one on the other side.  The real evidence and comfort is in the detail I am able to deliver\,” he says.  “A name\, a shared memory\, details of things they did and places they have been…it all comes together to give great evidence that I am really communicating with their loved ones in spirit.”  He says his work\, while entertaining\, inspiring and uplifting…is all about bringing comfort to individuals and families who grieve the loss of a cherished loved one. \nThrough my work\, people realize that we will meet again and that the bonds of love never die.
URL:http://windsorrsl.com.au/event/ezio-de-angelis-medium-3/
LOCATION:Windsor RSL
CATEGORIES:Entertainment
ATTACH;FMTTYPE=image/png:http://windsorrsl.com.au/wp-content/uploads/2023/08/Ezio_edm-1.png
END:VEVENT
BEGIN:VEVENT
DTSTART;TZID=UTC:20231013T200000
DTEND;TZID=UTC:20231013T220000
DTSTAMP:20260424T123759
CREATED:20230809T053806Z
LAST-MODIFIED:20230809T055603Z
UID:10001014-1697227200-1697234400@windsorrsl.com.au
SUMMARY:Blake O'Connor
DESCRIPTION:Fresh off the plane from Nashville\, Golden Guitar winner Blake O’Connor is ready rock only a few shows while he is back home in Australia as a prime time performer at the Groundwater Country Music Festival. Already making waves in the US despite only moving to Nashville a short time ago\, he recently soared to #1 on the ARIA Charts with his latest Album ‘Finding Light\,’ featuring hit singles like ‘Soul Feeling’\, ‘Little Bit Longer’ & ‘Willin’ And Ready.’  \n  \nAfter taking out the coveted Toyota Star Maker in 2019\, Blake played at CMA Fest in Nashville and wowed audiences in the U.K.’s Buckle & Boots Festival. Sharing stages with Tim McGraw\, John Farnham\, Diesel\, Russel Morris and more\, his music blends outlaw country\, blues\, and melodic soft rock. His show is not to be missed! \nShow is over 18years only!
URL:http://windsorrsl.com.au/event/blake-oconnor-2/
LOCATION:Windsor RSL
CATEGORIES:Entertainment
ATTACH;FMTTYPE=image/png:http://windsorrsl.com.au/wp-content/uploads/2023/08/KBRei9BQ.png
END:VEVENT
BEGIN:VEVENT
DTSTART;TZID=UTC:20230901T200000
DTEND;TZID=UTC:20230901T223000
DTSTAMP:20260424T123759
CREATED:20230728T002952Z
LAST-MODIFIED:20230728T010131Z
UID:10001013-1693598400-1693607400@windsorrsl.com.au
SUMMARY:Kevin Bloody Wilson - International DILLIGAF Day World Tour
DESCRIPTION:The Kevin Bloody Wilson Show is not just a concert performance\, for most\, it’s a full on event and an opportunity to tick from your bucket-list a chance to see Australia’s most unique International comedy legend. Kevin has become a national institution – a must see for any person wanting to see absolute original Australian comedy.\nKevin Bloody Wilson’s story is remarkable.  He has become a part of Australian Culture\, a part of who we are and how we define ourselves. His DILLIGAF attitude is a quality to be envied.\nHe’s been listed in Who’s Who\, his entire body of work has been preserved for future generations with the National Film and Sound Archive in Canberra and his fan base stretches from Broken Hill to Buckingham Palace. \nTHE SHOW IS RATED R AND IS STRICTLY 18+ YEARS ONLY  \n 
URL:http://windsorrsl.com.au/event/kevin-bloody-wilson-international-dilligaf-day-world-tour/
LOCATION:Windsor RSL
CATEGORIES:Entertainment
ATTACH;FMTTYPE=image/png:http://windsorrsl.com.au/wp-content/uploads/2023/07/KBW-IDD-20231080-x-810.png
END:VEVENT
BEGIN:VEVENT
DTSTART;TZID=UTC:20220820T200000
DTEND;TZID=UTC:20220820T223000
DTSTAMP:20260424T123759
CREATED:20220107T032525Z
LAST-MODIFIED:20220407T050339Z
UID:10000074-1661025600-1661034600@windsorrsl.com.au
SUMMARY:Glenn Shorrock
DESCRIPTION:With a career spanning over 55 years\, Glenn Shorrock is one of the elder statesmen of Australian contemporary show business. \nBorn in England\, Glenn migrated at the age of 10 to Adelaide in the mid-1950s. A self-confessed child of rock n roll\, he began singing in 1962 with a vocal group called the Twilights. By 1965\, the Twilights became a six piece beat group based in Melbourne scoring hits with Needle in a Haystack\, What’s Wrong with the Way I Live?\, Cathy Come Home and Young Girl\, before disbanding in 1969. \nAxiom with Brian Cadd followed shortly thereafter\, with hits including Arkansas Grass and Little Ray of Sunshine. Soon after\, in 1970 Axiom disbanded whilst in London. Glenn chose to remain in London as a session singer and songwriter working with other ex-pats and Europeans in a twelve-piece rock orchestra named Esperanto. \nLate 1974\, Glenn returned to Melbourne to help form Little River Band as lead singer. Managed by long time friend\, Glenn Wheatley\, Little River Band cracked the lucrative United States market in 1976\, and began a string of eight Top Ten Hits in the U.S.A. and around the world. The band has sold in excess of 30 million albums\, often being credited for opening the door for many Australian acts on the international circuit. In 1995\, Glenn fronted Little River Band during their 20th year anniversary\, three and a half-month tour of the United States. His songwriting credits include the international hits Help is on its Way\, Emma\, Home on Monday (co-writer Beeb Birtles)\, Long Jumping Jeweler\, Shut Down Turn Off\, My Own Way Home (co-writer Brian Cadd) and Cool Change. \nGlenn’s credentials extend to all fields of show business\, notably in theatre and cabaret where he starred in Evita\, The Rocky Horror Show\, One for the Money\, Go Cat Go and Two Up. A career highlight was producing and performing alongside Sir George Martin in the highly acclaimed production All You Need Is Beatles (1998). He performed the role of Johnny Casino in the smash hit Grease: The Arena Spectacular!\, which played to full houses across Australia and in Auckland; co-starred in British Rock Symphony with Eric Burdon and Thelma Houston\, performing the hits of the Beatles\, Led Zeppelin\, Pink Floyd\, Rolling Stones and The Who; and toured Australia with the successful Long Way to the Top concert series with Axiom and Twilights. 2002 re-introduced Glenn\, Graeham Goble and Beeb Birtles on stage as Birtles Shorrock Goble performing the famous classics with which Little River Band captured the world and produced the Full Circle DVD\, a live concert recording of them performing at the Forum Theatre in Melbourne. \nHe also regularly performs on behalf of various charities and continues as an ambassador for Variety. As a testament to his enduring talent he has been twice inducted into the ARIA Hall of Fame first in 1991 in his own right and again with The Little River Band in 2004.\nOn 9 September\, 2016 Glenn released his first album in many years\, “Rise Again” through SOCIAL FAMILY RECORDS. A collection of songs composed by himself and a few friends. \nShortly after\, Glenn published his auto biography ‘Now Where Was I?” through New Holland Publishers. A beautifully presented hard back that contains many personal and professional photographs from Glenn’s life. \nAnd in March 2019\, Glenn (through Social Family Records) released his most recent album ‘Glenn Shorrock Sings Little River Band’ which features ten of LRB’s greatest hits\, brilliantly re-imagined by Shorrock and produced and recorded live in studio by Steve Balbi along with an outstanding array of musicians who joined Shorrock to record the album. \n“I have been blessed with a long and successful career and doing some of my best work right at the moment with a great legacy behind me\, I’m a lucky man!” says Glenn. \nGlenn continues to be a much loved Australian music icon\, and is regularly invited to perform at major events and venues across Australia.
URL:http://windsorrsl.com.au/event/genn-shorrock/
CATEGORIES:Entertainment
ATTACH;FMTTYPE=image/jpeg:http://windsorrsl.com.au/wp-content/uploads/2022/01/Glenn-Shorrock-Feature-Image-only-hi-res-2021-for-ONLINE-WEBSITES-credit-Occhio-photography-scaled.jpg
END:VEVENT
END:VCALENDAR